BEGIN:VCALENDAR
VERSION:2.0
PRODID:-//Denver Actors Fund - ECPv6.15.20//NONSGML v1.0//EN
CALSCALE:GREGORIAN
METHOD:PUBLISH
X-WR-CALNAME:Denver Actors Fund
X-ORIGINAL-URL:https://www.denveractorsfund.org
X-WR-CALDESC:Events for Denver Actors Fund
REFRESH-INTERVAL;VALUE=DURATION:PT1H
X-Robots-Tag:noindex
X-PUBLISHED-TTL:PT1H
BEGIN:VTIMEZONE
TZID:America/Denver
BEGIN:DAYLIGHT
TZOFFSETFROM:-0700
TZOFFSETTO:-0600
TZNAME:MDT
DTSTART:20250309T090000
END:DAYLIGHT
BEGIN:STANDARD
TZOFFSETFROM:-0600
TZOFFSETTO:-0700
TZNAME:MST
DTSTART:20251102T080000
END:STANDARD
BEGIN:DAYLIGHT
TZOFFSETFROM:-0700
TZOFFSETTO:-0600
TZNAME:MDT
DTSTART:20260308T090000
END:DAYLIGHT
BEGIN:STANDARD
TZOFFSETFROM:-0600
TZOFFSETTO:-0700
TZNAME:MST
DTSTART:20261101T080000
END:STANDARD
BEGIN:DAYLIGHT
TZOFFSETFROM:-0700
TZOFFSETTO:-0600
TZNAME:MDT
DTSTART:20270314T090000
END:DAYLIGHT
BEGIN:STANDARD
TZOFFSETFROM:-0600
TZOFFSETTO:-0700
TZNAME:MST
DTSTART:20271107T080000
END:STANDARD
END:VTIMEZONE
BEGIN:VEVENT
DTSTART;TZID=America/Denver:20260220T193000
DTEND;TZID=America/Denver:20260220T213000
DTSTAMP:20260425T152957
CREATED:20260224T040024Z
LAST-MODIFIED:20260228T003037Z
UID:7861-1771615800-1771623000@www.denveractorsfund.org
SUMMARY:Ovation West's 'Songs for a New World'
DESCRIPTION:FRIDAYS FEB. 20-MARCH 6: Our friends at Ovation West have come up with an innovative plan to support the Denver Actors Fund by donating $2 from every ticket sold to its three scheduled Friday night performances of the song cycle “Songs for a New World.” Those dates will be February 20\, 27 and March 6. \n“Songs For a New World” was the debut musical from Tony Award® winning composer Jason Robert Brown (“The Last Five Years”). It’s a series of poignant\, character-driven vignettes illuminating the inner lives of individuals standing at the threshold of change. For tickets\, go to https://www.ovationwest.org/songs-from-a-new-world. Be sure to choose a Friday. \nThank you to Artistic director Graham Anduri and Director Tim Kennedy for supporting the DAF in such a creative way.
URL:https://www.denveractorsfund.org/event/ovation-wests-songs-for-a-new-world/
LOCATION:Center Stage\, 27608 Fireweed Drive\, Evergreen\, CO\, 80439\, United States
CATEGORIES:Donation Collection or Portion of Sales
ATTACH;FMTTYPE=image/jpeg:https://www.denveractorsfund.org/wp-content/uploads/2026/02/OVATION-WEST.jpg
ORGANIZER;CN="Ovation West":MAILTO:info@ovationwest.org
END:VEVENT
END:VCALENDAR