BEGIN:VCALENDAR
VERSION:2.0
PRODID:-//Denver Actors Fund - ECPv6.15.20//NONSGML v1.0//EN
CALSCALE:GREGORIAN
METHOD:PUBLISH
X-WR-CALNAME:Denver Actors Fund
X-ORIGINAL-URL:https://www.denveractorsfund.org
X-WR-CALDESC:Events for Denver Actors Fund
REFRESH-INTERVAL;VALUE=DURATION:PT1H
X-Robots-Tag:noindex
X-PUBLISHED-TTL:PT1H
BEGIN:VTIMEZONE
TZID:America/Denver
BEGIN:DAYLIGHT
TZOFFSETFROM:-0700
TZOFFSETTO:-0600
TZNAME:MDT
DTSTART:20250309T090000
END:DAYLIGHT
BEGIN:STANDARD
TZOFFSETFROM:-0600
TZOFFSETTO:-0700
TZNAME:MST
DTSTART:20251102T080000
END:STANDARD
BEGIN:DAYLIGHT
TZOFFSETFROM:-0700
TZOFFSETTO:-0600
TZNAME:MDT
DTSTART:20260308T090000
END:DAYLIGHT
BEGIN:STANDARD
TZOFFSETFROM:-0600
TZOFFSETTO:-0700
TZNAME:MST
DTSTART:20261101T080000
END:STANDARD
BEGIN:DAYLIGHT
TZOFFSETFROM:-0700
TZOFFSETTO:-0600
TZNAME:MDT
DTSTART:20270314T090000
END:DAYLIGHT
BEGIN:STANDARD
TZOFFSETFROM:-0600
TZOFFSETTO:-0700
TZNAME:MST
DTSTART:20271107T080000
END:STANDARD
END:VTIMEZONE
BEGIN:VEVENT
DTSTART;TZID=America/Denver:20260302T193000
DTEND;TZID=America/Denver:20260302T220000
DTSTAMP:20260425T141502
CREATED:20260224T044635Z
LAST-MODIFIED:20260227T011715Z
UID:7885-1772479800-1772488800@www.denveractorsfund.org
SUMMARY:Vintage Theatre's '9 to 5'
DESCRIPTION:Vintage Theatre has designated its MONDAY\, MARCH 2 Industry Night performance of “9 to 5” as a benefit for The Denver Actors Fund! Based on the blockbuster 1980 movie\, “9 to 5” is the hilarious story of workplace revenge in the Rolodex era. Pushed to the boiling point\, three female coworkers concoct a plan to get even with their sexist\, egotistical and lying boss. It’s written by Dolly Parton and Patricia Resnick. It’s directed by Dana Hart Wright and Tanner Kelly with choreography by Dallas Slankard. Join us at 7:30 p.m. MONDAY\, MARCH 2 at 1468 Dayton St. in Aurora. Vintage will donate 50% of all ticket proceeds to the Denver Actors Fund. All seats (normally $39) are just $25 for this night only. Order yours at vintagetheatre.org Let’s fill the Nickelson Auditorium for this one! Thank you all at Vintage! And if you can’t join us on DAF Night\, please support the companies that support us by taking this show in anytime through March 29.
URL:https://www.denveractorsfund.org/event/vintage-theatres-9-to-5/
LOCATION:Vintage Theatre\, 1468 Dayton Street\, Aurora\, CO\, 80010\, United States
CATEGORIES:DAF Performance
ATTACH;FMTTYPE=image/webp:https://www.denveractorsfund.org/wp-content/uploads/2026/02/Vintage-9to5Poster.webp
ORGANIZER;CN="Vintage Theatre":MAILTO:info@vintagetheatre.org
END:VEVENT
END:VCALENDAR