BEGIN:VCALENDAR
VERSION:2.0
PRODID:-//Denver Actors Fund - ECPv6.15.20//NONSGML v1.0//EN
CALSCALE:GREGORIAN
METHOD:PUBLISH
X-WR-CALNAME:Denver Actors Fund
X-ORIGINAL-URL:https://www.denveractorsfund.org
X-WR-CALDESC:Events for Denver Actors Fund
REFRESH-INTERVAL;VALUE=DURATION:PT1H
X-Robots-Tag:noindex
X-PUBLISHED-TTL:PT1H
BEGIN:VTIMEZONE
TZID:America/Denver
BEGIN:DAYLIGHT
TZOFFSETFROM:-0700
TZOFFSETTO:-0600
TZNAME:MDT
DTSTART:20250309T090000
END:DAYLIGHT
BEGIN:STANDARD
TZOFFSETFROM:-0600
TZOFFSETTO:-0700
TZNAME:MST
DTSTART:20251102T080000
END:STANDARD
BEGIN:DAYLIGHT
TZOFFSETFROM:-0700
TZOFFSETTO:-0600
TZNAME:MDT
DTSTART:20260308T090000
END:DAYLIGHT
BEGIN:STANDARD
TZOFFSETFROM:-0600
TZOFFSETTO:-0700
TZNAME:MST
DTSTART:20261101T080000
END:STANDARD
BEGIN:DAYLIGHT
TZOFFSETFROM:-0700
TZOFFSETTO:-0600
TZNAME:MDT
DTSTART:20270314T090000
END:DAYLIGHT
BEGIN:STANDARD
TZOFFSETFROM:-0600
TZOFFSETTO:-0700
TZNAME:MST
DTSTART:20271107T080000
END:STANDARD
END:VTIMEZONE
BEGIN:VEVENT
DTSTART;TZID=America/Denver:20260525T193000
DTEND;TZID=America/Denver:20260525T220000
DTSTAMP:20260425T141049
CREATED:20260227T012111Z
LAST-MODIFIED:20260227T012243Z
UID:7920-1779737400-1779746400@www.denveractorsfund.org
SUMMARY:Vintage Theatre's 'A Strange Loop'
DESCRIPTION:Vintage Theatre has designated its MONDAY\, MAY 25 Industry Night performance of “A Strange Loop” as a benefit for The Denver Actors Fund! This is the long-awaited regional premiere of the barrier-busting Tony Award- and Pulitzer Prize-winning Best Musical about Usher\, a Black\, queer writer writing a musical about a Black\, queer writer writing a musical about a Black\, queer artist. Michael R. Jackson’s blisteringly funny masterwork exposes the heart and soul of a young artist grappling with desires\, identity and instincts he both loves and loathes. It’s directed by Christopher Page-Sanders. Join us at 7:30 p.m. MONDAY\, MAY 25 at 1468 Dayton St. in Aurora. Vintage will donate 50% of all ticket proceeds to the Denver Actors Fund. All seats (normally $39) are just $25 for this night only. Order yours at vintagetheatre.org Let’s fill the Nickelson Auditorium for this one! Thank you all at Vintage! And if you can’t join us on DAF Night\, please support the companies that support us by taking this show in anytime through June 21.
URL:https://www.denveractorsfund.org/event/vintage-theatres-a-strange-loop/
LOCATION:Vintage Theatre\, 1468 Dayton Street\, Aurora\, CO\, 80010\, United States
CATEGORIES:Donation Collection or Portion of Sales
ORGANIZER;CN="Vintage Theatre":MAILTO:info@vintagetheatre.org
END:VEVENT
END:VCALENDAR