BEGIN:VCALENDAR
VERSION:2.0
PRODID:-//Denver Actors Fund - ECPv6.15.20//NONSGML v1.0//EN
CALSCALE:GREGORIAN
METHOD:PUBLISH
X-ORIGINAL-URL:https://www.denveractorsfund.org
X-WR-CALDESC:Events for Denver Actors Fund
REFRESH-INTERVAL;VALUE=DURATION:PT1H
X-Robots-Tag:noindex
X-PUBLISHED-TTL:PT1H
BEGIN:VTIMEZONE
TZID:America/Denver
BEGIN:DAYLIGHT
TZOFFSETFROM:-0700
TZOFFSETTO:-0600
TZNAME:MDT
DTSTART:20250309T090000
END:DAYLIGHT
BEGIN:STANDARD
TZOFFSETFROM:-0600
TZOFFSETTO:-0700
TZNAME:MST
DTSTART:20251102T080000
END:STANDARD
BEGIN:DAYLIGHT
TZOFFSETFROM:-0700
TZOFFSETTO:-0600
TZNAME:MDT
DTSTART:20260308T090000
END:DAYLIGHT
BEGIN:STANDARD
TZOFFSETFROM:-0600
TZOFFSETTO:-0700
TZNAME:MST
DTSTART:20261101T080000
END:STANDARD
BEGIN:DAYLIGHT
TZOFFSETFROM:-0700
TZOFFSETTO:-0600
TZNAME:MDT
DTSTART:20270314T090000
END:DAYLIGHT
BEGIN:STANDARD
TZOFFSETFROM:-0600
TZOFFSETTO:-0700
TZNAME:MST
DTSTART:20271107T080000
END:STANDARD
END:VTIMEZONE
BEGIN:VEVENT
DTSTART;TZID=America/Denver:20260608T193000
DTEND;TZID=America/Denver:20260608T213000
DTSTAMP:20260425T171016
CREATED:20260227T013021Z
LAST-MODIFIED:20260227T013021Z
UID:7931-1780947000-1780954200@www.denveractorsfund.org
SUMMARY:Firehouse Theater Company's 'The Cake'
DESCRIPTION:MONDAY\, JUNE 8: Our great friends at Firehouse Theater Company have designated their Industry Night performance of “The Cake” as a benefit\, with 100 percent of all proceeds donated to the Denver Actors Fund! In Bekah Brunstetter’s play\, inspired by a real Colorado legal case that went all the way to the Supreme Court\, Jen goes home to a small town in North Carolina marry a woman\, but her late mother’s cake-making best friend refuses to provide her service. Faith\, family\, and frosting collide in this timely comedy directed directed by Troy Lakey. This continues Firehouse Producing Artistic Director Helen Hand’s steadfast commitment to designate one performance of every tun with 100 PERCENT of proceeds donated to the DAF. Thank you to all involved\, including cast\, crew\, creatives\, staff for helping the DAF to continue to help Colorado theater artists! Tickets at https://firehousetheatercompany.ticketspice.com/the-cake – and be sure to choose MONDAY\, JUNE 8! Curtain is at 7:30 p.m. And If you can’t join us on DAF Night\, please support the companies that support us by taking in this fun new play anytime between May 30 and June 28.
URL:https://www.denveractorsfund.org/event/firehouse-theater-companys-the-cake/
LOCATION:The John Hand Theater on the CFU Lowry Campus\, 7653 E. 1st Place\, Denver\, CO\, 80230\, United States
CATEGORIES:DAF Performance
ATTACH;FMTTYPE=image/jpeg:https://www.denveractorsfund.org/wp-content/uploads/2026/02/the-cake-3.jpeg
ORGANIZER;CN="Firehouse Theater Company":MAILTO:firehousetc@gmail.com
END:VEVENT
BEGIN:VEVENT
DTSTART;TZID=America/Denver:20260622T193000
DTEND;TZID=America/Denver:20260622T220000
DTSTAMP:20260425T171016
CREATED:20260227T012225Z
LAST-MODIFIED:20260227T012225Z
UID:7922-1782156600-1782165600@www.denveractorsfund.org
SUMMARY:Vintage Theatre's 'The Book Club Play'
DESCRIPTION:Vintage Theatre has designated its MONDAY\, JUNE 22 Industry Night performances of “The Book Club Play” as a benefit for The Denver Actors Fund! When the members of a devoted book club become the subjects of a documentary filmmaker\, their long-standing group dynamics take a hilarious turn. It’s written by by Karen Zacarias and directed by Brendan Cochran. Join us at 7:30 p.m. MONDAY\, JUNE 22 for Parts 1 & 2 of this historic play at 1468 Dayton St. in Aurora. Vintage will donate 50% of all ticket proceeds to the Denver Actors Fund. All seats (normally $39) are just $25 for this night only. Order yours at vintagetheatre.org Let’s fill the Bond-Trimble Theatre for these ones! Thank you all at Vintage! And if you can’t join us on DAF Night\, please support the companies that support us by taking this show in anytime through July 19.
URL:https://www.denveractorsfund.org/event/vintage-theatres-the-book-club-play/
LOCATION:Vintage Theatre\, 1468 Dayton Street\, Aurora\, CO\, 80010\, United States
CATEGORIES:Donation Collection or Portion of Sales
ORGANIZER;CN="Vintage Theatre":MAILTO:info@vintagetheatre.org
END:VEVENT
BEGIN:VEVENT
DTSTART;TZID=America/Denver:20260710T190000
DTEND;TZID=America/Denver:20260710T213000
DTSTAMP:20260425T171016
CREATED:20260227T012524Z
LAST-MODIFIED:20260227T191026Z
UID:7924-1783710000-1783719000@www.denveractorsfund.org
SUMMARY:OpenStage's 'The Merry Wives of Windsor'
DESCRIPTION:Our friends at OpenStage Theatre & Company in Fort Collins have a unique\, signature program to support The Denver Actors Fund called “Final Fridays.” On the\, yes\, final Friday of every mainstage production run\, cast members gather after the show to greet departing audience members and collect bucket donations for the DAF. Next up: OpenStage will be collecting after the Friday\, JULY 10\, performance of Shakespeare’s “The Merry Wives of Windsor” at The Park at Columbine Health Systems. The director is Kate Austin–Gröen. The cast has not yet been announced. \n“Merry Wives” is “The Sir John Falstaff Show.” Stumbling and bumbling Sir John has a plan to seduce two wealthy housewives and make off with their fortunes. But these wives are far more clever than he\, and are ready to play some tricks of their own. Tickets are regularly up to $42 but\, to receive discounted pricing for students\, teachers or industry\, simply enter INDUSTRY or STUDENT as a promo code at checkout. Tickets at https://openstage.com/show/the-merry-wives-of-windsor. \nPlease support the companies that support the DAF by seeing this show anytime before it closes on July 11. But if you want to support the DAF at the same time\, why not join us on JULY 10 at The Park at Columbine Health Systems? It promises to be a magical night under the stars. NOTE THE 7 P.M. START TIME. \nThank you\, Producing Artistic Director Jacob Offen\, cast\, crew\, volunteers – and all of you who show up!
URL:https://www.denveractorsfund.org/event/openstages-the-merry-wives-of-windsor/
LOCATION:The Park at the Columbine Health Systems\, 947 Worthington Circle\, Fort Collins\, CO\, 80526\, United States
CATEGORIES:Donation Collection or Portion of Sales
ATTACH;FMTTYPE=image/png:https://www.denveractorsfund.org/wp-content/uploads/2026/02/merry-wives.png
ORGANIZER;CN="OpenStage Theatre & Company":MAILTO:info@openstage.com
END:VEVENT
END:VCALENDAR