BEGIN:VCALENDAR
VERSION:2.0
PRODID:-//Denver Actors Fund - ECPv6.15.20//NONSGML v1.0//EN
CALSCALE:GREGORIAN
METHOD:PUBLISH
X-WR-CALNAME:Denver Actors Fund
X-ORIGINAL-URL:https://www.denveractorsfund.org
X-WR-CALDESC:Events for Denver Actors Fund
REFRESH-INTERVAL;VALUE=DURATION:PT1H
X-Robots-Tag:noindex
X-PUBLISHED-TTL:PT1H
BEGIN:VTIMEZONE
TZID:America/Denver
BEGIN:DAYLIGHT
TZOFFSETFROM:-0700
TZOFFSETTO:-0600
TZNAME:MDT
DTSTART:20250309T090000
END:DAYLIGHT
BEGIN:STANDARD
TZOFFSETFROM:-0600
TZOFFSETTO:-0700
TZNAME:MST
DTSTART:20251102T080000
END:STANDARD
BEGIN:DAYLIGHT
TZOFFSETFROM:-0700
TZOFFSETTO:-0600
TZNAME:MDT
DTSTART:20260308T090000
END:DAYLIGHT
BEGIN:STANDARD
TZOFFSETFROM:-0600
TZOFFSETTO:-0700
TZNAME:MST
DTSTART:20261101T080000
END:STANDARD
BEGIN:DAYLIGHT
TZOFFSETFROM:-0700
TZOFFSETTO:-0600
TZNAME:MDT
DTSTART:20270314T090000
END:DAYLIGHT
BEGIN:STANDARD
TZOFFSETFROM:-0600
TZOFFSETTO:-0700
TZNAME:MST
DTSTART:20271107T080000
END:STANDARD
END:VTIMEZONE
BEGIN:VEVENT
DTSTART;TZID=America/Denver:20260220T193000
DTEND;TZID=America/Denver:20260220T213000
DTSTAMP:20260425T205722
CREATED:20260224T040024Z
LAST-MODIFIED:20260228T003037Z
UID:7861-1771615800-1771623000@www.denveractorsfund.org
SUMMARY:Ovation West's 'Songs for a New World'
DESCRIPTION:FRIDAYS FEB. 20-MARCH 6: Our friends at Ovation West have come up with an innovative plan to support the Denver Actors Fund by donating $2 from every ticket sold to its three scheduled Friday night performances of the song cycle “Songs for a New World.” Those dates will be February 20\, 27 and March 6. \n“Songs For a New World” was the debut musical from Tony Award® winning composer Jason Robert Brown (“The Last Five Years”). It’s a series of poignant\, character-driven vignettes illuminating the inner lives of individuals standing at the threshold of change. For tickets\, go to https://www.ovationwest.org/songs-from-a-new-world. Be sure to choose a Friday. \nThank you to Artistic director Graham Anduri and Director Tim Kennedy for supporting the DAF in such a creative way.
URL:https://www.denveractorsfund.org/event/ovation-wests-songs-for-a-new-world/
LOCATION:Center Stage\, 27608 Fireweed Drive\, Evergreen\, CO\, 80439\, United States
CATEGORIES:Donation Collection or Portion of Sales
ATTACH;FMTTYPE=image/jpeg:https://www.denveractorsfund.org/wp-content/uploads/2026/02/OVATION-WEST.jpg
ORGANIZER;CN="Ovation West":MAILTO:info@ovationwest.org
END:VEVENT
BEGIN:VEVENT
DTSTART;TZID=America/Denver:20260216T193000
DTEND;TZID=America/Denver:20260216T220000
DTSTAMP:20260425T205722
CREATED:20251218T233851Z
LAST-MODIFIED:20251218T233955Z
UID:7707-1771270200-1771279200@www.denveractorsfund.org
SUMMARY:H-E-Double Crooked Letter
DESCRIPTION:Our great friends at Firehouse Theater Company have designated their Industry Night performance of “H-E-Double Crooked Letter” as a benefit\, with 100 percent of all proceeds donated to the Denver Actors Fund! In Leonard Madrid’s world-premiere comedy\, three Latine cousins have opened a gate to Hell in their grandma’s living room\, and now they can’t get it closed. Think of it as a hilarious and ultimately heartwarming\, journey to the dark side.  Directed by Debra Gallegos and Beki Pineda. This continues Firehouse Producing Artistic Director Helen Hand’s steadfast commitment to designate one performance of every run with 100 PERCENT of proceeds donated to the DAF. Thank you to all involved\, including cast\, crew\, creatives and staff for helping the DAF continue to help Colorado theater artists! Tickets at https://firehousetheatercompany.ticketspice.com/h-e-double-crooked-letter – and be sure to choose MONDAY\, FEBUARY 16! Curtain is at 7:30 p.m. And If you can’t join us on DAF Night\, please support the companies that support us by taking in this fun new play anytime between February 7 and March 8.
URL:https://www.denveractorsfund.org/event/h-e-double-crooked-letter/
LOCATION:The John Hand Theater on the CFU Lowry Campus\, 7653 E. 1st Place\, Denver\, CO\, 80230\, United States
CATEGORIES:DAF Performance
ATTACH;FMTTYPE=image/jpeg:https://www.denveractorsfund.org/wp-content/uploads/2025/12/firehouse-.jpeg
ORGANIZER;CN="Firehouse Theater Company":MAILTO:firehousetc@gmail.com
END:VEVENT
BEGIN:VEVENT
DTSTART;TZID=America/Denver:20260216T193000
DTEND;TZID=America/Denver:20260216T220000
DTSTAMP:20260425T205722
CREATED:20251218T223025Z
LAST-MODIFIED:20260228T003212Z
UID:7692-1771270200-1771279200@www.denveractorsfund.org
SUMMARY:Monty Python’s Spamalot
DESCRIPTION:Please join us for Town Hall Arts Center’s Industry Night performance of “Monty Python’s Spamalot.” Our friends at Town Hall are continuing their incredible commitment to designate one performance per run with 100 percent of all proceeds from ticket and concession sales to be donated to The Denver Actors Fund. “Spamalot\,” inspired by the classic 1975 Monty Python film\, is an irreverent spoof of Arthurian legends that won a Best Musical Tony Award in 2005 There are nutty knights\, a mighty diva\, flatulent Frenchmen\, a bloodthirsty bunny\, plenty of puns\, and a partig reminder to “always look on the bright side of life.” Town Hall is located at 2450 Main St. in Littleton. Tickets are only $22-$27 (normally as much as $52). Reserve your seats at 303-794-2787 or https://townhallartscenter.org/event/monty-pythons-spamalot-daf-performance/. Thank you to Robert Michael Sanders\, Matthew Kepler\, Steven J. Burge and the Town Hall Board of Directors. THANK YOU ALL!
URL:https://www.denveractorsfund.org/event/monty-pythons-spamalot/
LOCATION:Town Hall Arts Center\, 2450 Main Street\, Littleton\, CO\, 80122\, United States
CATEGORIES:DAF Performance
ATTACH;FMTTYPE=image/jpeg:https://www.denveractorsfund.org/wp-content/uploads/2026/02/SPAMALOT.jpg
ORGANIZER;CN="Town Hall Arts Center":MAILTO:thac@townhallartscenter.org
END:VEVENT
BEGIN:VEVENT
DTSTART;TZID=America/Denver:20260206T193000
DTEND;TZID=America/Denver:20260206T213000
DTSTAMP:20260425T205722
CREATED:20251218T222728Z
LAST-MODIFIED:20260228T003333Z
UID:7684-1770406200-1770413400@www.denveractorsfund.org
SUMMARY:The Mousetrap
DESCRIPTION:Our friends at OpenStage Theatre & Company in Fort Collins have a unique\, signature program to support The Denver Actors Fund called “Final Fridays.” On the\, yes\, final Friday of every mainstage production run\, cast members gather after the show to greet departing audience members and collect bucket donations for the DAF. Next up: OpenStage will be collecting after the Friday\, February 6 performance of Agatha Christie’s “The Mousetrap” at the Lincoln Center’s Magnolia Theatre.  The director is Heather Ostberg Johnson. \n“The Mousetrap” is significant for being the world’s longest-running play in history\, a testament to its enduring appeal as a murder mystery that keeps audiences guessing. On a snowy winter day in a newly converted manor run by an inexperienced young couple\, Mollie and Giles\, a radio report announces that a woman has been murdered in Paddington. You can pretty much take it from there. \nTickets are regularly up to $39 but\, to receive discounted pricing for students\, teachers or industry\, simply enter INDUSTRY or STUDENT as a promo code at checkout. Tickets at https://openstage.com/show/the-mousetrap. \nPlease support the companies that support the DAF by seeing this show anytime before it closes on February 7. But if you want to support the DAF at the same time\, why not join us on February 6 at the Lincoln Center? Thank you\, Producing Artistic Director Jacob Offen\, cast\, crew\, volunteers – and all of you who show up! \nCAST \n\nKaty White: Mollie Ralston\nBrian Wilcox: Giles Ralston\nHugh Butterfield: Christopher Wren\nLouise Thornton: Mrs. Boyle\nDavid Austin-Gröen: Major Metcalf\nBryn Frisina: Miss Casewell\nBas Meindertsma: Mr. Paravicini\nBradley Calahan: Detective Sergeant Trotter
URL:https://www.denveractorsfund.org/event/the-mousetrap/
LOCATION:The Lincoln Center Magnolia Theatre\, 417 W Magnolia Street\, Fort Collins\, CO\, 80521\, United States
CATEGORIES:DAF Performance
ATTACH;FMTTYPE=image/jpeg:https://www.denveractorsfund.org/wp-content/uploads/2026/01/THE-MINUTES.jpg
ORGANIZER;CN="OpenStage Theatre & Company":MAILTO:info@openstage.com
END:VEVENT
END:VCALENDAR